BEGIN:VCALENDAR
VERSION:2.0
PRODID:-//Magna Radio - ECPv6.15.18//NONSGML v1.0//EN
CALSCALE:GREGORIAN
METHOD:PUBLISH
X-WR-CALNAME:Magna Radio
X-ORIGINAL-URL:https://www.magnaradio.co.uk
X-WR-CALDESC:Events for Magna Radio
REFRESH-INTERVAL;VALUE=DURATION:PT1H
X-Robots-Tag:noindex
X-PUBLISHED-TTL:PT1H
BEGIN:VTIMEZONE
TZID:Europe/London
BEGIN:DAYLIGHT
TZOFFSETFROM:+0000
TZOFFSETTO:+0100
TZNAME:BST
DTSTART:20250330T010000
END:DAYLIGHT
BEGIN:STANDARD
TZOFFSETFROM:+0100
TZOFFSETTO:+0000
TZNAME:GMT
DTSTART:20251026T010000
END:STANDARD
BEGIN:DAYLIGHT
TZOFFSETFROM:+0000
TZOFFSETTO:+0100
TZNAME:BST
DTSTART:20260329T010000
END:DAYLIGHT
BEGIN:STANDARD
TZOFFSETFROM:+0100
TZOFFSETTO:+0000
TZNAME:GMT
DTSTART:20261025T010000
END:STANDARD
BEGIN:DAYLIGHT
TZOFFSETFROM:+0000
TZOFFSETTO:+0100
TZNAME:BST
DTSTART:20270328T010000
END:DAYLIGHT
BEGIN:STANDARD
TZOFFSETFROM:+0100
TZOFFSETTO:+0000
TZNAME:GMT
DTSTART:20271031T010000
END:STANDARD
END:VTIMEZONE
BEGIN:VEVENT
DTSTART;TZID=Europe/London:20260418T100000
DTEND;TZID=Europe/London:20260418T160000
DTSTAMP:20260425T205918
CREATED:20260414T095015Z
LAST-MODIFIED:20260414T095151Z
UID:10000039-1776506400-1776528000@www.magnaradio.co.uk
SUMMARY:Chandlers Horncastle Country Stores Open Day
DESCRIPTION:Come an see us at our Horncastle Open Day on Saturday 18th April 2026. \nThere will be lots of great savings and offers across the store on equine and pet supplies\, clothing\, footwear\, toys and much more\, as well as reps attending on the day from Omega Equine and Bearts Animal Feed to give expert advice. Chandlers Groundscare and Arb equipment also available on the day. \n\nFREE refreshments with tea\, coffee\, cake and cookies on the day.\nOpen Day competitions where you have the chance to win some fabulous prizes worth over £100!\nFREE goody bags for the first 50 customers on the day.\n\nWe hope to see you there! \nChandlers Country Stores Horncastle\, Boston Road\, Horncastle\, Lincolnshire\, LN9 6JN.
URL:https://www.magnaradio.co.uk/event/chandlers-horncastle-country-stores-open-day/
LOCATION:Chandlers Country Stores\, Horncastle\, Boston Road\, Horncastle\, Lincolnshire\, LN9 6JN
ATTACH;FMTTYPE=image/jpeg:https://www.magnaradio.co.uk/wp-content/uploads/2026/04/Chandelers.jpeg
END:VEVENT
END:VCALENDAR