BEGIN:VCALENDAR
VERSION:2.0
PRODID:-//Magna Radio - ECPv6.15.18//NONSGML v1.0//EN
CALSCALE:GREGORIAN
METHOD:PUBLISH
X-ORIGINAL-URL:https://www.magnaradio.co.uk
X-WR-CALDESC:Events for Magna Radio
REFRESH-INTERVAL;VALUE=DURATION:PT1H
X-Robots-Tag:noindex
X-PUBLISHED-TTL:PT1H
BEGIN:VTIMEZONE
TZID:Europe/London
BEGIN:DAYLIGHT
TZOFFSETFROM:+0000
TZOFFSETTO:+0100
TZNAME:BST
DTSTART:20250330T010000
END:DAYLIGHT
BEGIN:STANDARD
TZOFFSETFROM:+0100
TZOFFSETTO:+0000
TZNAME:GMT
DTSTART:20251026T010000
END:STANDARD
BEGIN:DAYLIGHT
TZOFFSETFROM:+0000
TZOFFSETTO:+0100
TZNAME:BST
DTSTART:20260329T010000
END:DAYLIGHT
BEGIN:STANDARD
TZOFFSETFROM:+0100
TZOFFSETTO:+0000
TZNAME:GMT
DTSTART:20261025T010000
END:STANDARD
BEGIN:DAYLIGHT
TZOFFSETFROM:+0000
TZOFFSETTO:+0100
TZNAME:BST
DTSTART:20270328T010000
END:DAYLIGHT
BEGIN:STANDARD
TZOFFSETFROM:+0100
TZOFFSETTO:+0000
TZNAME:GMT
DTSTART:20271031T010000
END:STANDARD
END:VTIMEZONE
BEGIN:VEVENT
DTSTART;TZID=Europe/London:20260426T090000
DTEND;TZID=Europe/London:20260426T113000
DTSTAMP:20260426T000357
CREATED:20260407T114238Z
LAST-MODIFIED:20260407T114337Z
UID:10000029-1777194000-1777203000@www.magnaradio.co.uk
SUMMARY:Veterans Breakfast at RAF Waddington
DESCRIPTION:Members of the Gainsborough Armed Forces & Veterans Breakfast Club will be attending a special visit to RAF Waddington later this month\, bringing together veterans\, serving personnel and their families for a morning of connection and community. \nTaking place on Sunday 26th April 2026\, the visit will see attendees welcomed onto the base for a breakfast gathering at the Officer’s Mess\, along with the opportunity to meet others from across the armed forces community. \nThe visit will begin with arrivals at Manchester Road Car Park from 9:00am\, before guests head to the Officer’s Mess for breakfast and photographs. The event is scheduled to conclude at 11:30am. \nThe event is organised by the Gainsborough Armed Forces & Veterans Breakfast Club and is open to members of the armed forces community\, including serving personnel\, veterans and spouses. \nEvent details:Date: Sunday 26th April 2026Time: 9:00am – 11:30amLocation: RAF Waddington\, LincolnActivity: Breakfast at the Officer’s Mess \nThis event highlights the continued importance of community support and connection within the armed forces network across Lincolnshire.
URL:https://www.magnaradio.co.uk/event/veterans-breakfast-at-raf-waddington/
LOCATION:RAF Waddington
ATTACH;FMTTYPE=image/jpeg:https://www.magnaradio.co.uk/wp-content/uploads/2026/04/WAD-20230910-524-Gainsborough-Breakfast-Club-Visit-116-scaled.jpg
END:VEVENT
END:VCALENDAR